BEGIN:VCALENDAR
VERSION:2.0
PRODID:-//Exit Row Band - ECPv5.16.4//NONSGML v1.0//EN
CALSCALE:GREGORIAN
METHOD:PUBLISH
X-WR-CALNAME:Exit Row Band
X-ORIGINAL-URL:https://exitrowband.com
X-WR-CALDESC:Events for Exit Row Band
BEGIN:VTIMEZONE
TZID:America/New_York
BEGIN:DAYLIGHT
TZOFFSETFROM:-0500
TZOFFSETTO:-0400
TZNAME:EDT
DTSTART:20130310T070000
END:DAYLIGHT
BEGIN:STANDARD
TZOFFSETFROM:-0400
TZOFFSETTO:-0500
TZNAME:EST
DTSTART:20131103T060000
END:STANDARD
END:VTIMEZONE
BEGIN:VEVENT
DTSTART;TZID=America/New_York:20130816T190000
DTEND;TZID=America/New_York:20130816T210000
DTSTAMP:20260425T192148
CREATED:20130312T173811Z
LAST-MODIFIED:20130312T202959Z
UID:223-1376679600-1376686800@exitrowband.com
SUMMARY:Clinton Come Together - Outdoor Concert
DESCRIPTION:Exit Row Band is playing an outdoor show for Clinton Come Together from 7:00pm to 9:00pm at 33 Main Street\, Clinton\, NJ 08809. Clinton is a great town with lots to see and do\, so come by and have a fun night with your favorite band!
URL:https://exitrowband.com/event/clinton-come-together-outdoor-concert/
LOCATION:33 Main Street\, Clinton\, NJ\, 08809\, United States
CATEGORIES:Top NJ Band Public Shows
END:VEVENT
END:VCALENDAR