BEGIN:VCALENDAR
VERSION:2.0
PRODID:-//Exit Row Band - ECPv5.16.4//NONSGML v1.0//EN
CALSCALE:GREGORIAN
METHOD:PUBLISH
X-WR-CALNAME:Exit Row Band
X-ORIGINAL-URL:https://exitrowband.com
X-WR-CALDESC:Events for Exit Row Band
BEGIN:VTIMEZONE
TZID:America/New_York
BEGIN:DAYLIGHT
TZOFFSETFROM:-0500
TZOFFSETTO:-0400
TZNAME:EDT
DTSTART:20150308T070000
END:DAYLIGHT
BEGIN:STANDARD
TZOFFSETFROM:-0400
TZOFFSETTO:-0500
TZNAME:EST
DTSTART:20151101T060000
END:STANDARD
END:VTIMEZONE
BEGIN:VEVENT
DTSTART;TZID=America/New_York:20150522T193000
DTEND;TZID=America/New_York:20150522T220000
DTSTAMP:20260425T072759
CREATED:20150618T153010Z
LAST-MODIFIED:20150618T153010Z
UID:362-1432323000-1432332000@exitrowband.com
SUMMARY:Downtown after Sundown live outdoor concert by Exit Row Band
DESCRIPTION:We’re back in South Orange at Spiotta Park! Friday May 22\, 2015 from 7:30pm to 10pm we are performing an outdoor show. The downtown area is a really great place\, so come by for a terrific evening!
URL:https://exitrowband.com/event/downtown-after-sundown-live-outdoor-concert-by-exit-row-band/
LOCATION:Spiotta Park\, 8 Village Plaza\, South Orange\, NJ\, 07079\, United States
CATEGORIES:Top NJ Band Public Shows
END:VEVENT
END:VCALENDAR