BEGIN:VCALENDAR
VERSION:2.0
PRODID:-//Exit Row Band - ECPv5.16.4//NONSGML v1.0//EN
CALSCALE:GREGORIAN
METHOD:PUBLISH
X-WR-CALNAME:Exit Row Band
X-ORIGINAL-URL:https://exitrowband.com
X-WR-CALDESC:Events for Exit Row Band
BEGIN:VTIMEZONE
TZID:America/New_York
BEGIN:DAYLIGHT
TZOFFSETFROM:-0500
TZOFFSETTO:-0400
TZNAME:EDT
DTSTART:20170312T070000
END:DAYLIGHT
BEGIN:STANDARD
TZOFFSETFROM:-0400
TZOFFSETTO:-0500
TZNAME:EST
DTSTART:20171105T060000
END:STANDARD
END:VTIMEZONE
BEGIN:VEVENT
DTSTART;TZID=America/New_York:20170914T190000
DTEND;TZID=America/New_York:20170914T203000
DTSTAMP:20260424T185823
CREATED:20170818T182033Z
LAST-MODIFIED:20170913T213658Z
UID:841-1505415600-1505421000@exitrowband.com
SUMMARY:Dunellen hosts special concert by New Jersey top event band Exit Row Band
DESCRIPTION:On Thursday September 14th\, from 7:00-8:30pm\, Dunellen will host a special outdoor performance by NJ’s favorite professional private event band\, Exit Row Band\, at Washington Memorial Park. The concert will consist of popular cover songs including oldies\, classic rock\, new country\, top 40\, and danceable music. Exit Row Band is really looking forward to giving everyone a fantastic show! We hope to see you there!\nAs a note of interest\, our former accordion player was from Dunellen 🙂
URL:https://exitrowband.com/event/dunellen-hosts-special-concert-by-new-jersey-top-event-band-exit-row-band/
LOCATION:Washington Memorial Park\, Dunellen\, NJ\, 08812\, United States
CATEGORIES:Top NJ Cover Band Public Shows
END:VEVENT
END:VCALENDAR