BEGIN:VCALENDAR
VERSION:2.0
PRODID:-//Exit Row Band - ECPv5.16.4//NONSGML v1.0//EN
CALSCALE:GREGORIAN
METHOD:PUBLISH
X-WR-CALNAME:Exit Row Band
X-ORIGINAL-URL:https://exitrowband.com
X-WR-CALDESC:Events for Exit Row Band
BEGIN:VTIMEZONE
TZID:America/New_York
BEGIN:DAYLIGHT
TZOFFSETFROM:-0500
TZOFFSETTO:-0400
TZNAME:EDT
DTSTART:20170312T070000
END:DAYLIGHT
BEGIN:STANDARD
TZOFFSETFROM:-0400
TZOFFSETTO:-0500
TZNAME:EST
DTSTART:20171105T060000
END:STANDARD
END:VTIMEZONE
BEGIN:VEVENT
DTSTART;TZID=America/New_York:20170713T190000
DTEND;TZID=America/New_York:20170713T203000
DTSTAMP:20260424T205640
CREATED:20170513T204320Z
LAST-MODIFIED:20170713T195704Z
UID:810-1499972400-1499977800@exitrowband.com
SUMMARY:Dunellen presents outdoor music concert by New Jersey Top Rated Professional Event Band Exit Row
DESCRIPTION:Update: We sadly inform you tonight’s show is postponed due to thunderstorms. We will let you know as soon as we have the reschedule date! \nOn Thursday July 13th\, from 7-8:30pm\, Dunellen will host a special outdoor performance by NJ’s favorite professional private event band\, Exit Row Band at Washington Memorial Park. The concert will consist of popular cover songs including oldies\, classic rock\, new country\, top 40\, and danceable music. Exit Row Band is really looking forward to giving everyone a fantastic show! We hope to see you there! \n 
URL:https://exitrowband.com/event/dunellen-presents-outdoor-music-concert-by-new-jersey-top-rated-professional-event-band-exit-row/
LOCATION:Washington Memorial Park\, Dunellen\, NJ\, 08812\, United States
CATEGORIES:Top NJ Cover Band Public Shows
END:VEVENT
END:VCALENDAR