BEGIN:VCALENDAR
VERSION:2.0
PRODID:-//Exit Row Band - ECPv5.16.4//NONSGML v1.0//EN
CALSCALE:GREGORIAN
METHOD:PUBLISH
X-WR-CALNAME:Exit Row Band
X-ORIGINAL-URL:https://exitrowband.com
X-WR-CALDESC:Events for Exit Row Band
BEGIN:VTIMEZONE
TZID:America/New_York
BEGIN:DAYLIGHT
TZOFFSETFROM:-0500
TZOFFSETTO:-0400
TZNAME:EDT
DTSTART:20170312T070000
END:DAYLIGHT
BEGIN:STANDARD
TZOFFSETFROM:-0400
TZOFFSETTO:-0500
TZNAME:EST
DTSTART:20171105T060000
END:STANDARD
END:VTIMEZONE
BEGIN:VEVENT
DTSTART;TZID=America/New_York:20171001T170000
DTEND;TZID=America/New_York:20171001T183000
DTSTAMP:20260424T185953
CREATED:20170825T231939Z
LAST-MODIFIED:20170825T231939Z
UID:862-1506877200-1506882600@exitrowband.com
SUMMARY:Exit Row Band concert - special Summit Community Day celebrating legacy of Detective Matthew Tarentino
DESCRIPTION:Exit Row Band is honored to be giving a special concert. \nIn May\, the Summit Community lost one of their police officers\, Detective Matthew Tarentino\, in a tragic car accident. Detective Tarentino was an officer in the Community Policing Unit and was loved by so many in the community. Matt was known to love a good parade and community event. In his honor and to thank the Summit community for the support they showed Matt’s family\, fellow Summit officers and others\, there will be a Community Day. \nOn October 1\, 2017 there will be a parade beginning at 1:00 PM. The parade will end at Summit’s Village Green. There will be entertainment\, a concert from 5-6:30pm by Exit Row Band\, shows\, rides and games at the Village Green\, followed by the showing of a movie.  
URL:https://exitrowband.com/event/exit-row-band-concert-special-summit-community-day-celebrating-legacy-of-detective-matthew-tarentino/
LOCATION:Summit Village Green\, 356 Broad Street\, Summit\, NJ\, 07901\, United States
CATEGORIES:Top NJ Band Public Shows
END:VEVENT
END:VCALENDAR