BEGIN:VCALENDAR
VERSION:2.0
PRODID:-//Exit Row Band - ECPv5.16.4//NONSGML v1.0//EN
CALSCALE:GREGORIAN
METHOD:PUBLISH
X-WR-CALNAME:Exit Row Band
X-ORIGINAL-URL:https://exitrowband.com
X-WR-CALDESC:Events for Exit Row Band
BEGIN:VTIMEZONE
TZID:America/New_York
BEGIN:DAYLIGHT
TZOFFSETFROM:-0500
TZOFFSETTO:-0400
TZNAME:EDT
DTSTART:20160313T070000
END:DAYLIGHT
BEGIN:STANDARD
TZOFFSETFROM:-0400
TZOFFSETTO:-0500
TZNAME:EST
DTSTART:20161106T060000
END:STANDARD
END:VTIMEZONE
BEGIN:VEVENT
DTSTART;TZID=America/New_York:20160812T210000
DTEND;TZID=America/New_York:20160813T235500
DTSTAMP:20260425T001510
CREATED:20160403T020606Z
LAST-MODIFIED:20160403T020638Z
UID:470-1471035600-1471132500@exitrowband.com
SUMMARY:Exit Row Band LIVE at the Grillstone in Scotch Plains
DESCRIPTION:Exit Row Band\, New Jersey’s favorite Event Band\, will be playing a special show at the fantastic Grillstone Restaurant on Rt 22 in Scotch Plains on Friday August 12. Plan on an amazing night of your favorite classic rock and pop from 9-12. Come early to get a good seat!
URL:https://exitrowband.com/event/exit-row-band-live-at-the-grillstone-in-scotch-plains/
LOCATION:Grillestone\, 2377 US-22\, Scotch Plains\, NJ\, 07076\, United States
CATEGORIES:New Jersey Corporate Event Band,Top NJ Band Public Shows
END:VEVENT
END:VCALENDAR