BEGIN:VCALENDAR
VERSION:2.0
PRODID:-//Exit Row Band - ECPv5.16.4//NONSGML v1.0//EN
CALSCALE:GREGORIAN
METHOD:PUBLISH
X-WR-CALNAME:Exit Row Band
X-ORIGINAL-URL:https://exitrowband.com
X-WR-CALDESC:Events for Exit Row Band
BEGIN:VTIMEZONE
TZID:America/New_York
BEGIN:DAYLIGHT
TZOFFSETFROM:-0500
TZOFFSETTO:-0400
TZNAME:EDT
DTSTART:20160313T070000
END:DAYLIGHT
BEGIN:STANDARD
TZOFFSETFROM:-0400
TZOFFSETTO:-0500
TZNAME:EST
DTSTART:20161106T060000
END:STANDARD
END:VTIMEZONE
BEGIN:VEVENT
DTSTART;TZID=America/New_York:20160916T190000
DTEND;TZID=America/New_York:20160916T210000
DTSTAMP:20260425T001013
CREATED:20160406T183916Z
LAST-MODIFIED:20160406T183916Z
UID:479-1474052400-1474059600@exitrowband.com
SUMMARY:Exit Row Band live music at Hunterdon Art Museum
DESCRIPTION:NJ’s premier event band\, Exit Row Band\, will put on a show on the Art Terrace of the Hunterdon Art Museum on Friday September 16\, 2016 from 7pm to 9pm. Clinton is a fun town with terrific people and a hip downtown. Be sure to come by for a fun and music-filled evening!\nThe address is: 7 Lower Center St\, Clinton\, NJ 08809
URL:https://exitrowband.com/event/exit-row-band-live-music-at-hunterdon-art-museum/
LOCATION:Hunterdon Art Museum\, 7 Lower Center Street\, Clinton\, 08809\, United States
CATEGORIES:New Jersey Corporate Event Band,Top NJ Band Public Shows
END:VEVENT
END:VCALENDAR