BEGIN:VCALENDAR
VERSION:2.0
PRODID:-//Exit Row Band - ECPv5.16.4//NONSGML v1.0//EN
CALSCALE:GREGORIAN
METHOD:PUBLISH
X-WR-CALNAME:Exit Row Band
X-ORIGINAL-URL:https://exitrowband.com
X-WR-CALDESC:Events for Exit Row Band
BEGIN:VTIMEZONE
TZID:America/New_York
BEGIN:DAYLIGHT
TZOFFSETFROM:-0500
TZOFFSETTO:-0400
TZNAME:EDT
DTSTART:20140309T070000
END:DAYLIGHT
BEGIN:STANDARD
TZOFFSETFROM:-0400
TZOFFSETTO:-0500
TZNAME:EST
DTSTART:20141102T060000
END:STANDARD
END:VTIMEZONE
BEGIN:VEVENT
DTSTART;TZID=America/New_York:20140615T160000
DTEND;TZID=America/New_York:20140615T170000
DTSTAMP:20260425T091125
CREATED:20140216T185236Z
LAST-MODIFIED:20140216T185236Z
UID:344-1402848000-1402851600@exitrowband.com
SUMMARY:Exit Row Band performs outdoor benefit concert for special needs children
DESCRIPTION:Mark your calendars for Sunday June 15\, 2014 at 4pm! Exit Row Band will play an outdoor benefit concert for special needs children. This is a fun day\, so come early! Food\, drinks\, live music\, outdoors\, what else could you want on a Sunday afternoon? We start promptly at 4pm\, the show is located at the Clinton Elks grounds\, 211 Sidney Road Rt 617 in Pittstown\, NJ 08867. Directions are as follows: \nFrom 78 West: Take exit 15 (Clinton). Make a left at the light onto 513 South. Go underneath the bridge and through two traffic lights. Make your first left onto 617 South – Sidney Road. The Clinton Elks Lodge is located 1.4 miles on the left hand side. \nFrom 78 East: Take exit 15 (Clinton). Make a left at the light onto 513 South. Go through the second traffic light. Make your first left onto 617 South – Sidney Road. The Clinton Elks Lodge is located 1.4 miles on the left hand side. \nFrom 287 North: Take 287 North to 78 West. Take exit 15 (Clinton). Make a left at the light onto 513 South. Go underneath the bridge and through two traffic lights. Make your first left onto 617 South – Sidney Road. The Clinton Elks Lodge is located 1.4 miles on the left hand side. \nFrom 287 South: Take 287 South to 78 West. Take exit 15 (Clinton). Make a left at the light onto 513 South. Go underneath the bridge and through two traffic lights. Make your first left onto 617 South – Sidney Road. The Clinton Elks Lodge is located 1.4 miles on the left hand side.
URL:https://exitrowband.com/event/exit-row-band-performs-outdoor-benefit-concert-for-special-needs-children/
LOCATION:Clinton Elks Outdoor Grounds\, 211 Sidney Road Rt 617\, Pittstown\, NJ\, 08867\, United States
CATEGORIES:Top NJ Band Public Shows
END:VEVENT
END:VCALENDAR