BEGIN:VCALENDAR
VERSION:2.0
PRODID:-//Exit Row Band - ECPv5.16.4//NONSGML v1.0//EN
CALSCALE:GREGORIAN
METHOD:PUBLISH
X-WR-CALNAME:Exit Row Band
X-ORIGINAL-URL:https://exitrowband.com
X-WR-CALDESC:Events for Exit Row Band
BEGIN:VTIMEZONE
TZID:America/New_York
BEGIN:DAYLIGHT
TZOFFSETFROM:-0500
TZOFFSETTO:-0400
TZNAME:EDT
DTSTART:20140309T070000
END:DAYLIGHT
BEGIN:STANDARD
TZOFFSETFROM:-0400
TZOFFSETTO:-0500
TZNAME:EST
DTSTART:20141102T060000
END:STANDARD
END:VTIMEZONE
BEGIN:VEVENT
DTSTART;TZID=America/New_York:20140523T190000
DTEND;TZID=America/New_York:20140523T210000
DTSTAMP:20260425T090839
CREATED:20140216T182056Z
LAST-MODIFIED:20140216T182056Z
UID:343-1400871600-1400878800@exitrowband.com
SUMMARY:Exit Row Band plays Grand Season Launch in Clinton
DESCRIPTION:Come listen to Exit Row Band as we perform the Grand Season Launch 5/23/14\, outdoors at 39 Main Street in Clinton\, NJ from 7pm to 9pm. Clinton is such a fun town\, we play here multiple times per year!
URL:https://exitrowband.com/event/exit-row-band-plays-grand-season-launch-in-clinton/
LOCATION:Downtown Clinton\, 33 Main Street\, Clinton\, NJ\, 08809\, United States
CATEGORIES:Top NJ Band Public Shows
END:VEVENT
END:VCALENDAR