BEGIN:VCALENDAR
VERSION:2.0
PRODID:-//Exit Row Band - ECPv5.16.4//NONSGML v1.0//EN
CALSCALE:GREGORIAN
METHOD:PUBLISH
X-WR-CALNAME:Exit Row Band
X-ORIGINAL-URL:https://exitrowband.com
X-WR-CALDESC:Events for Exit Row Band
BEGIN:VTIMEZONE
TZID:America/New_York
BEGIN:DAYLIGHT
TZOFFSETFROM:-0500
TZOFFSETTO:-0400
TZNAME:EDT
DTSTART:20140309T070000
END:DAYLIGHT
BEGIN:STANDARD
TZOFFSETFROM:-0400
TZOFFSETTO:-0500
TZNAME:EST
DTSTART:20141102T060000
END:STANDARD
END:VTIMEZONE
BEGIN:VEVENT
DTSTART;TZID=America/New_York:20140805T190000
DTEND;TZID=America/New_York:20140805T203000
DTSTAMP:20260425T091232
CREATED:20140216T190834Z
LAST-MODIFIED:20140216T190834Z
UID:346-1407265200-1407270600@exitrowband.com
SUMMARY:Exit Row Band plays HUGE event at Summit National Night Out 2014
DESCRIPTION:Tuesday August 5\, 2014\, Exit Row Band takes the stage from 7pm-8:30pm to play the Summit National Night Out Celebration. This is a fantastic event\, with thousands and thousands of people\, food\, vendors\, rides\, etc. Last year the Governor flew over us in a helicopter! The show is at the Summit Village Green\, 356 Broad Street\, Summit\, NJ 07901. This is one show you don’t want to miss!
URL:https://exitrowband.com/event/exit-row-band-plays-huge-event-at-summit-national-night-out-2014/
LOCATION:Summit Village Green\, 356 Broad Street\, Summit\, NJ\, 07901\, United States
CATEGORIES:Top NJ Band Public Shows
END:VEVENT
END:VCALENDAR