BEGIN:VCALENDAR
VERSION:2.0
PRODID:-//Exit Row Band - ECPv5.16.4//NONSGML v1.0//EN
CALSCALE:GREGORIAN
METHOD:PUBLISH
X-WR-CALNAME:Exit Row Band
X-ORIGINAL-URL:https://exitrowband.com
X-WR-CALDESC:Events for Exit Row Band
BEGIN:VTIMEZONE
TZID:America/New_York
BEGIN:DAYLIGHT
TZOFFSETFROM:-0500
TZOFFSETTO:-0400
TZNAME:EDT
DTSTART:20180311T070000
END:DAYLIGHT
BEGIN:STANDARD
TZOFFSETFROM:-0400
TZOFFSETTO:-0500
TZNAME:EST
DTSTART:20181104T060000
END:STANDARD
END:VTIMEZONE
BEGIN:VEVENT
DTSTART;TZID=America/New_York:20180119T210000
DTEND;TZID=America/New_York:20180119T235900
DTSTAMP:20260424T171115
CREATED:20170825T215636Z
LAST-MODIFIED:20170825T215636Z
UID:859-1516395600-1516406340@exitrowband.com
SUMMARY:Famous NJ Private Event Band Exit Row to perform at Grillestone 1/19/18
DESCRIPTION:On January 19th\, 2018\, the famous NJ private event cover band Exit Row Band will perform a free show at one of New Jersey’s finest establishments\, the Grillestone located in Scotch Plains\, NJ. A limited number of free shows are performed by the band each year for the general public.  \nMusic will consist of a wide variety of cover songs: oldies\, top 40\, classic rock\, new country\, and dance songs.  \nLocated just a few miles from Exit Row’s headquarters in Watchung\, the shows at Grillestone allow local fans to have a fun-filled evening with a top-rated event band.  \nSince 2005\, Exit Row Band’s performers have been on stages across the world and United States. They’ve provided entertainment before shows by Sarah McLachlan to Peter Gabriel to George Thorogood. http://ExitRowBand.com.  http://Facebook.com/ExitRowBand
URL:https://exitrowband.com/event/famous-nj-private-event-band-exit-row-to-perform-at-grillestone-11918/
LOCATION:Grillestone\, 2377 US-22\, Scotch Plains\, NJ\, 07076\, United States
CATEGORIES:Top NJ Cover Band Public Shows
END:VEVENT
END:VCALENDAR