BEGIN:VCALENDAR
VERSION:2.0
PRODID:-//Exit Row Band - ECPv5.16.4//NONSGML v1.0//EN
CALSCALE:GREGORIAN
METHOD:PUBLISH
X-WR-CALNAME:Exit Row Band
X-ORIGINAL-URL:https://exitrowband.com
X-WR-CALDESC:Events for Exit Row Band
BEGIN:VTIMEZONE
TZID:America/New_York
BEGIN:DAYLIGHT
TZOFFSETFROM:-0500
TZOFFSETTO:-0400
TZNAME:EDT
DTSTART:20190310T070000
END:DAYLIGHT
BEGIN:STANDARD
TZOFFSETFROM:-0400
TZOFFSETTO:-0500
TZNAME:EST
DTSTART:20191103T060000
END:STANDARD
END:VTIMEZONE
BEGIN:VEVENT
DTSTART;TZID=America/New_York:20190125T210000
DTEND;TZID=America/New_York:20190125T235900
DTSTAMP:20260424T153614
CREATED:20180924T013354Z
LAST-MODIFIED:20180924T013354Z
UID:895-1548450000-1548460740@exitrowband.com
SUMMARY:Grillestone presents Top NJ Band Exit Row in Concert on 1/25/19
DESCRIPTION:Come join NJ’s top private event cover band for a fun evening of your favorite songs. Primarily a Professional Event band\, this is an excellent opportunity to see a top-rated band at one of their rare shows for the general public. \nExit Row Band’s professionals have done over 1\,000 events across the world since 2005. They’ve provided opening entertainment before acts ranging from Peter Gabriel to Sarah McLachlan to George Thorogood. They’ve been featured shows at New Jersey’s biggest events\, from The QuickChek Festival of Ballooning to Shad Fest to Yelp’s biggest Event of the Year. \nTheir travel team tours several months a year\, having been on stages in 14 countries and 17 states. \nTo be kept informed of upcoming public shows near you\, follow them on Facebook at:\nhttp://Facebook.com/ExitRowBand.com \nFor more information on the band:\nhttp://ExitRowBand.com
URL:https://exitrowband.com/event/grillestone-presents-top-nj-band-exit-row-in-concert-on-12519/
LOCATION:Grillestone\, 2377 US-22\, Scotch Plains\, NJ\, 07076\, United States
CATEGORIES:Top NJ Band Public Shows
END:VEVENT
END:VCALENDAR