BEGIN:VCALENDAR
VERSION:2.0
PRODID:-//Exit Row Band - ECPv5.16.4//NONSGML v1.0//EN
CALSCALE:GREGORIAN
METHOD:PUBLISH
X-WR-CALNAME:Exit Row Band
X-ORIGINAL-URL:https://exitrowband.com
X-WR-CALDESC:Events for Exit Row Band
BEGIN:VTIMEZONE
TZID:America/New_York
BEGIN:DAYLIGHT
TZOFFSETFROM:-0500
TZOFFSETTO:-0400
TZNAME:EDT
DTSTART:20170312T070000
END:DAYLIGHT
BEGIN:STANDARD
TZOFFSETFROM:-0400
TZOFFSETTO:-0500
TZNAME:EST
DTSTART:20171105T060000
END:STANDARD
END:VTIMEZONE
BEGIN:VEVENT
DTSTART;TZID=America/New_York:20170804T210000
DTEND;TZID=America/New_York:20170804T235900
DTSTAMP:20260424T185309
CREATED:20170424T211724Z
LAST-MODIFIED:20170424T211724Z
UID:801-1501880400-1501891140@exitrowband.com
SUMMARY:Grillestone presents Top NJ Cover band Exit Row for special show
DESCRIPTION:One of the coolest locations in NJ\, Grillestone\, welcomes back top rated private event band Exit Row for another special show! On August 4th from 9pm-12\, come out to enjoy fantastic food & drinks while listening to your favorite music!\n 
URL:https://exitrowband.com/event/grillestone-presents-top-nj-cover-band-exit-row-for-special-show/
LOCATION:Grillestone\, 2377 US-22\, Scotch Plains\, NJ\, 07076\, United States
CATEGORIES:Top NJ Band Public Shows
END:VEVENT
END:VCALENDAR