BEGIN:VCALENDAR
VERSION:2.0
PRODID:-//Exit Row Band - ECPv5.16.4//NONSGML v1.0//EN
CALSCALE:GREGORIAN
METHOD:PUBLISH
X-WR-CALNAME:Exit Row Band
X-ORIGINAL-URL:https://exitrowband.com
X-WR-CALDESC:Events for Exit Row Band
BEGIN:VTIMEZONE
TZID:America/New_York
BEGIN:DAYLIGHT
TZOFFSETFROM:-0500
TZOFFSETTO:-0400
TZNAME:EDT
DTSTART:20170312T070000
END:DAYLIGHT
BEGIN:STANDARD
TZOFFSETFROM:-0400
TZOFFSETTO:-0500
TZNAME:EST
DTSTART:20171105T060000
END:STANDARD
END:VTIMEZONE
BEGIN:VEVENT
DTSTART;TZID=America/New_York:20170610T210000
DTEND;TZID=America/New_York:20170610T235900
DTSTAMP:20260424T205450
CREATED:20170422T210029Z
LAST-MODIFIED:20170422T210029Z
UID:794-1497128400-1497139140@exitrowband.com
SUMMARY:Grillestone presents Top NJ Private Event Band Exit Row Band
DESCRIPTION:Top Rated New Jersey Professional Private Event Band Exit Row Band will be performing a special show at one of the state’s best venues\, The Grillestone in Scotch Plains. We’ll be doing a fun evening of classic rock covers\, top 40\, dance songs\, oldies\, and new country. Its going to be a fantastic night!\n 
URL:https://exitrowband.com/event/grillestone-presents-top-nj-private-event-band-exit-row-band/
LOCATION:Grillestone\, 2377 US-22\, Scotch Plains\, NJ\, 07076\, United States
CATEGORIES:New Jersey Corporate Event Band
END:VEVENT
END:VCALENDAR