BEGIN:VCALENDAR
VERSION:2.0
PRODID:-//Exit Row Band - ECPv5.16.4//NONSGML v1.0//EN
CALSCALE:GREGORIAN
METHOD:PUBLISH
X-WR-CALNAME:Exit Row Band
X-ORIGINAL-URL:https://exitrowband.com
X-WR-CALDESC:Events for Exit Row Band
BEGIN:VTIMEZONE
TZID:America/New_York
BEGIN:DAYLIGHT
TZOFFSETFROM:-0500
TZOFFSETTO:-0400
TZNAME:EDT
DTSTART:20190310T070000
END:DAYLIGHT
BEGIN:STANDARD
TZOFFSETFROM:-0400
TZOFFSETTO:-0500
TZNAME:EST
DTSTART:20191103T060000
END:STANDARD
END:VTIMEZONE
BEGIN:VEVENT
DTSTART;TZID=America/New_York:20190308T213000
DTEND;TZID=America/New_York:20190308T235900
DTSTAMP:20260424T153830
CREATED:20190224T220124Z
LAST-MODIFIED:20190224T220124Z
UID:902-1552080600-1552089540@exitrowband.com
SUMMARY:LIVE at Blue Moon Mexican Cafe: Top NJ Event Band Exit Row Band on 3/8/19
DESCRIPTION:For our North Jersey fans! \nExit Row Band\, a top private event cover band in the NorthEast\, will be playing a show for the public on 3/8/19 at Blue Moon Mexican Cafe located at 327 Franklin Avenue\, Wyckoff\, NJ 07481. The travel team is returning from the SouthWest for this special show starting at 9:30pm\, before heading back on tour\, this time to Mexico. Be sure to come by\, Blue Moon has fantastic food and it will be a terrific show!\n \nTo be kept informed of the bands upcoming shows for the public\, “like” the Facebook page at:\nhttp://Facebook.com/ExitRowBand\nMore information on the band can be found at http://ExitRowBand.com\n 
URL:https://exitrowband.com/event/live-at-blue-moon-mexican-cafe-top-nj-event-band-exit-row-band-on-3819/
LOCATION:Blue Moon Mexican Cafe\, 327 Franklin Avenue\, Wyckoff\, 07481\, United States
CATEGORIES:New Jersey Corporate Event Band
END:VEVENT
END:VCALENDAR