BEGIN:VCALENDAR
VERSION:2.0
PRODID:-//Exit Row Band - ECPv5.16.4//NONSGML v1.0//EN
CALSCALE:GREGORIAN
METHOD:PUBLISH
X-WR-CALNAME:Exit Row Band
X-ORIGINAL-URL:https://exitrowband.com
X-WR-CALDESC:Events for Exit Row Band
BEGIN:VTIMEZONE
TZID:America/New_York
BEGIN:DAYLIGHT
TZOFFSETFROM:-0500
TZOFFSETTO:-0400
TZNAME:EDT
DTSTART:20170312T070000
END:DAYLIGHT
BEGIN:STANDARD
TZOFFSETFROM:-0400
TZOFFSETTO:-0500
TZNAME:EST
DTSTART:20171105T060000
END:STANDARD
END:VTIMEZONE
BEGIN:VEVENT
DTSTART;TZID=America/New_York:20170303T210000
DTEND;TZID=America/New_York:20170303T235500
DTSTAMP:20260424T222618
CREATED:20170110T001624Z
LAST-MODIFIED:20170110T001826Z
UID:762-1488574800-1488585300@exitrowband.com
SUMMARY:New Jersey's favorite private event band Exit Row live at the Grillestone 3/3/17
DESCRIPTION:Exit Row Band\, everyone’s favorite private event band\, will be playing a special show at a terrific venue: The Grillestone in Scotch Plains on Friday March 3 starting at 9pm. Expecting a fantastic evening of classic rock\, new country\, dance songs\, oldies\, and more! We do a limited number of shows for the public each year\, so be sure to mark your calendars! We’re looking forward to seeing you!\nIf you haven’t already done so\, be sure to “like” us at http://Facebook.com/ExitRowBand to know when we’ll be playing near you!
URL:https://exitrowband.com/event/new-jerseys-favorite-private-event-band-exit-row-live-at-the-grillestone-3317/
LOCATION:Grillestone\, 2377 US-22\, Scotch Plains\, NJ\, 07076\, United States
CATEGORIES:Top NJ Band Public Shows
END:VEVENT
END:VCALENDAR