BEGIN:VCALENDAR
VERSION:2.0
PRODID:-//Exit Row Band - ECPv5.16.4//NONSGML v1.0//EN
CALSCALE:GREGORIAN
METHOD:PUBLISH
X-WR-CALNAME:Exit Row Band
X-ORIGINAL-URL:https://exitrowband.com
X-WR-CALDESC:Events for Exit Row Band
BEGIN:VTIMEZONE
TZID:America/New_York
BEGIN:DAYLIGHT
TZOFFSETFROM:-0500
TZOFFSETTO:-0400
TZNAME:EDT
DTSTART:20190310T070000
END:DAYLIGHT
BEGIN:STANDARD
TZOFFSETFROM:-0400
TZOFFSETTO:-0500
TZNAME:EST
DTSTART:20191103T060000
END:STANDARD
END:VTIMEZONE
BEGIN:VEVENT
DTSTART;TZID=America/New_York:20190827T190000
DTEND;TZID=America/New_York:20190827T210000
DTSTAMP:20260424T120057
CREATED:20190429T173720Z
LAST-MODIFIED:20190501T174002Z
UID:937-1566932400-1566939600@exitrowband.com
SUMMARY:Outdoor Concert in Westfield by top NJ private event cover band Exit Row Band 8/27/19
DESCRIPTION:On August 27th from 7-9pm\, New Jersey’s favorite professional event cover band Exit Row Band will be performing a free outdoor concert for the public at 170 Elm Street in Westfield NJ. Westfield is a great town to explore\, so come by for a fun night of your favorite music!
URL:https://exitrowband.com/event/outdoor-concert-in-westfield-by-top-nj-private-event-cover-band-exit-row-band-82719/
LOCATION:170 Elm Street\, Westfield\, NJ 07090\, 170 Elm Street\, Westfield\, NJ\, 07090\, United States
CATEGORIES:New Jersey Corporate Event Band
END:VEVENT
END:VCALENDAR