BEGIN:VCALENDAR
VERSION:2.0
PRODID:-//Exit Row Band - ECPv5.16.4//NONSGML v1.0//EN
CALSCALE:GREGORIAN
METHOD:PUBLISH
X-WR-CALNAME:Exit Row Band
X-ORIGINAL-URL:https://exitrowband.com
X-WR-CALDESC:Events for Exit Row Band
BEGIN:VTIMEZONE
TZID:America/New_York
BEGIN:DAYLIGHT
TZOFFSETFROM:-0500
TZOFFSETTO:-0400
TZNAME:EDT
DTSTART:20190310T070000
END:DAYLIGHT
BEGIN:STANDARD
TZOFFSETFROM:-0400
TZOFFSETTO:-0500
TZNAME:EST
DTSTART:20191103T060000
END:STANDARD
END:VTIMEZONE
BEGIN:VEVENT
DTSTART;TZID=America/New_York:20190713T200000
DTEND;TZID=America/New_York:20190713T230000
DTSTAMP:20260424T120015
CREATED:20190501T171644Z
LAST-MODIFIED:20190501T171644Z
UID:935-1563048000-1563058800@exitrowband.com
SUMMARY:Private Outdoor Concert for Tall Timbers Community by Top Cover Band Exit Row Band
DESCRIPTION:On 7/13\, Exit Row Band will be doing a large outdoor concert for the private community of Tall Timbers. This event is not open to the general public\, but if you are nearby\, you will hear us! Please check out calendar for a public show near you\, we’d love to see you there!
URL:https://exitrowband.com/event/private-outdoor-concert-for-tall-timbers-community-by-top-cover-band-exit-row-band/
CATEGORIES:Top NJ Cover Band Public Shows
END:VEVENT
END:VCALENDAR