BEGIN:VCALENDAR
VERSION:2.0
PRODID:-//Exit Row Band - ECPv5.16.4//NONSGML v1.0//EN
CALSCALE:GREGORIAN
METHOD:PUBLISH
X-WR-CALNAME:Exit Row Band
X-ORIGINAL-URL:https://exitrowband.com
X-WR-CALDESC:Events for Exit Row Band
BEGIN:VTIMEZONE
TZID:America/New_York
BEGIN:DAYLIGHT
TZOFFSETFROM:-0500
TZOFFSETTO:-0400
TZNAME:EDT
DTSTART:20170312T070000
END:DAYLIGHT
BEGIN:STANDARD
TZOFFSETFROM:-0400
TZOFFSETTO:-0500
TZNAME:EST
DTSTART:20171105T060000
END:STANDARD
END:VTIMEZONE
BEGIN:VEVENT
DTSTART;TZID=America/New_York:20171103T210000
DTEND;TZID=America/New_York:20171103T235900
DTSTAMP:20260424T171223
CREATED:20170825T210941Z
LAST-MODIFIED:20170825T210941Z
UID:856-1509742800-1509753540@exitrowband.com
SUMMARY:Professional NJ Cover Band Exit Row performs at Grillestone 11/3/17
DESCRIPTION:On November 3rd\, professional cover band Exit Row Band will perform a free show at one of New Jersey’s finest establishments\, the Grillestone located in Scotch Plains\, NJ. A limited number of free shows are performed by the band each year for the general public.  \nMusic will consist of a wide variety of cover songs: oldies\, top 40\, classic rock\, new country\, and dance songs.  \nLocated just a few miles from Exit Row’s headquarters in Watchung\, the shows at Grillestone allow local fans to have a fun-filled evening with a top-rated event band.  \nSince 2005\, Exit Row Band’s performers have been on stages across the world and United States. They’ve provided entertainment before shows by Sarah McLachlan to Peter Gabriel to George Thorogood.  \nIf you haven’t already done so\, please “like” us at http://Facebook.com/ExitRowBand to be kept informed of public shows near you. \n \nSome of the many services Exit Row Band provides its clients include: \n\nCorporate Events\nWedding Receptions\nConventions\nConcerts\nFestivals\nStreet Fairs\nPrivate Functions\nCharity Benefits\nCountry Clubs\nYacht Clubs\n\nand more!
URL:https://exitrowband.com/event/professional-nj-cover-band-exit-row-performs-at-grillestone-11317/
LOCATION:Grillestone\, 2377 US-22\, Scotch Plains\, NJ\, 07076\, United States
CATEGORIES:Top NJ Band Public Shows
END:VEVENT
END:VCALENDAR