BEGIN:VCALENDAR
VERSION:2.0
PRODID:-//Exit Row Band - ECPv5.16.4//NONSGML v1.0//EN
CALSCALE:GREGORIAN
METHOD:PUBLISH
X-WR-CALNAME:Exit Row Band
X-ORIGINAL-URL:https://exitrowband.com
X-WR-CALDESC:Events for Exit Row Band
BEGIN:VTIMEZONE
TZID:America/New_York
BEGIN:DAYLIGHT
TZOFFSETFROM:-0500
TZOFFSETTO:-0400
TZNAME:EDT
DTSTART:20190310T070000
END:DAYLIGHT
BEGIN:STANDARD
TZOFFSETFROM:-0400
TZOFFSETTO:-0500
TZNAME:EST
DTSTART:20191103T060000
END:STANDARD
END:VTIMEZONE
BEGIN:VEVENT
DTSTART;TZID=America/New_York:20190823T210000
DTEND;TZID=America/New_York:20190823T235900
DTSTAMP:20260424T115711
CREATED:20190225T011304Z
LAST-MODIFIED:20190225T011304Z
UID:907-1566594000-1566604740@exitrowband.com
SUMMARY:Professional NJ Event Band Exit Row Band to perform at Grillestone 8/23/2019
DESCRIPTION:We love Grillestone\, its down the road from our world headquarters in Watchung. As a result\, we are able to provide several shows for the general public! \nAward-winning professional private event band Exit Row Band will be playing a show for the general public at The Grillestone on 8/23/19 starting at 9pm. This is a great opportunity to hear one of the best cover bands around\, at a fantastic venue. Exit Row Band’s travel team has been on stages around the world\, and spends several months each year on tour. \n \nGrillestone is located at 2377 US-22W\, Scotch Plains\, NJ 07076. \n \nTo be kept informed of public shows near you\, be sure to “like” their page at:\nhttp://Facebook.com/ExitRowBand\n \nFor more information on Exit Row\, please visit:\nhttp://ExitRowBand.com\n \n@ExitRowBand\n 
URL:https://exitrowband.com/event/professional-nj-event-band-exit-row-band-to-perform-at-grillestone-8232019/
LOCATION:Grillestone\, 2377 US-22\, Scotch Plains\, NJ\, 07076\, United States
CATEGORIES:Top NJ Cover Band Public Shows
END:VEVENT
END:VCALENDAR