BEGIN:VCALENDAR
VERSION:2.0
PRODID:-//Exit Row Band - ECPv5.16.4//NONSGML v1.0//EN
CALSCALE:GREGORIAN
METHOD:PUBLISH
X-WR-CALNAME:Exit Row Band
X-ORIGINAL-URL:https://exitrowband.com
X-WR-CALDESC:Events for Exit Row Band
BEGIN:VTIMEZONE
TZID:America/New_York
BEGIN:DAYLIGHT
TZOFFSETFROM:-0500
TZOFFSETTO:-0400
TZNAME:EDT
DTSTART:20170312T070000
END:DAYLIGHT
BEGIN:STANDARD
TZOFFSETFROM:-0400
TZOFFSETTO:-0500
TZNAME:EST
DTSTART:20171105T060000
END:STANDARD
END:VTIMEZONE
BEGIN:VEVENT
DTSTART;TZID=America/New_York:20170916T160000
DTEND;TZID=America/New_York:20170916T180000
DTSTAMP:20260424T185505
CREATED:20170820T213751Z
LAST-MODIFIED:20170820T213751Z
UID:845-1505577600-1505584800@exitrowband.com
SUMMARY:Shores Acres Yacht Club music by Exit Row Band
DESCRIPTION:New Jersey professional private event cover band Exit Row Band will be providing music on 9/16/17 from 4-6pm for Shore Acres Yacht Club on National Talk Like a Pirate Day. Arggg Matey\, its going to be a jolly good time! \n  \n \n 
URL:https://exitrowband.com/event/shores-acres-yacht-club-music-by-exit-row-band/
LOCATION:Shore Acres Yacht Club\, 800 Drum Point Road\, Brick\, NJ\, 08742\, United States
CATEGORIES:New Jersey Corporate Event Band
END:VEVENT
END:VCALENDAR