BEGIN:VCALENDAR
VERSION:2.0
PRODID:-//Exit Row Band - ECPv5.16.4//NONSGML v1.0//EN
CALSCALE:GREGORIAN
METHOD:PUBLISH
X-WR-CALNAME:Exit Row Band
X-ORIGINAL-URL:https://exitrowband.com
X-WR-CALDESC:Events for Exit Row Band
BEGIN:VTIMEZONE
TZID:America/New_York
BEGIN:DAYLIGHT
TZOFFSETFROM:-0500
TZOFFSETTO:-0400
TZNAME:EDT
DTSTART:20170312T070000
END:DAYLIGHT
BEGIN:STANDARD
TZOFFSETFROM:-0400
TZOFFSETTO:-0500
TZNAME:EST
DTSTART:20171105T060000
END:STANDARD
END:VTIMEZONE
BEGIN:VEVENT
DTSTART;TZID=America/New_York:20170802T190000
DTEND;TZID=America/New_York:20170802T210000
DTSTAMP:20260424T204412
CREATED:20170513T185104Z
LAST-MODIFIED:20170513T203204Z
UID:805-1501700400-1501707600@exitrowband.com
SUMMARY:Special concert for Camp PALS at Cabrini College by NJ Professional Event Band Exit Row
DESCRIPTION:New Jersey Professional Event Band Exit Row is pleased to be chosen to perform a special concert for Camp PALS flagship program at Cabrini College in Radnor Pennsylvania. Camp PALS is a fantastic non-profit with 11 programs throughout the United States pairing a volunteer with an individual with Downs Syndrome. We love giving back\, and look forward to giving these terrific folks a fantastic show! \n \nAs a busy professional private event band\, we only do a handful of shows for the general public. Please be sure to “like” us on Facebook to be kept informed of when we are playing a public show near you. Our selection of cover songs is extensive\, and we can custom tailor a live music performance to your specification. \nhttp://ExitRowBand.com\nhttp://Facebook.com/ExitRowBand \nSome of the many professional musical services Exit Row Band provides include: \nCorporate Events \nWedding Receptions\nPrivate Parties\nConventions\nAwards Banquets\nCharity Fund Raisers\nCountry Clubs\nTown Music Concerts\nYacht Clubs\nDinner Dances\nSweet 16s\nProms\nPrivate Functions\nMitzvahs\nMusic for Festivals\nPrivate functions\nReunions\nAnniversaries\nBirthday Party\nCharitable Events\nDJ Services\nStreet Fairs\nBanquets\n and more!
URL:https://exitrowband.com/event/special-concert-for-camp-pals-at-cabrini-college-by-nj-professional-event-band-exit-row/
LOCATION:Cabrini College\, Mansion\, Radnor\, PA\, 19087\, United States
CATEGORIES:New Jersey Corporate Event Band
END:VEVENT
END:VCALENDAR