BEGIN:VCALENDAR
VERSION:2.0
PRODID:-//Exit Row Band - ECPv5.16.4//NONSGML v1.0//EN
CALSCALE:GREGORIAN
METHOD:PUBLISH
X-WR-CALNAME:Exit Row Band
X-ORIGINAL-URL:https://exitrowband.com
X-WR-CALDESC:Events for Exit Row Band
BEGIN:VTIMEZONE
TZID:America/New_York
BEGIN:DAYLIGHT
TZOFFSETFROM:-0500
TZOFFSETTO:-0400
TZNAME:EDT
DTSTART:20190310T070000
END:DAYLIGHT
BEGIN:STANDARD
TZOFFSETFROM:-0400
TZOFFSETTO:-0500
TZNAME:EST
DTSTART:20191103T060000
END:STANDARD
END:VTIMEZONE
BEGIN:VEVENT
DTSTART;TZID=America/New_York:20191115T210000
DTEND;TZID=America/New_York:20191115T235900
DTSTAMP:20260424T115831
CREATED:20190225T011915Z
LAST-MODIFIED:20190225T011915Z
UID:913-1573851600-1573862340@exitrowband.com
SUMMARY:Top Event Band Exit Row performs show for public at Grillestone in Scotch Plains NJ
DESCRIPTION:Award-winning professional private event band Exit Row Band will be playing a show for the general public at The Grillestone on 11/15/2019 starting at 9pm. This is a great opportunity to hear one of the best cover bands around\, at a fantastic venue. Exit Row Band’s travel team has been on stages around the world\, and spends several months each year on tour. \n \nGrillestone is located at 2377 US-22W\, Scotch Plains\, NJ 07076. \n \nTo be kept informed of public shows near you\, be sure to “like” their page at:\nhttp://Facebook.com/ExitRowBand\n \nFor more information on Exit Row\, please visit:\nhttp://ExitRowBand.com\n \n@ExitRowBand\n 
URL:https://exitrowband.com/event/top-event-band-exit-row-performs-show-for-public-at-grillestone-in-scotch-plains-nj/
LOCATION:Grillestone\, 2377 US-22\, Scotch Plains\, NJ\, 07076\, United States
CATEGORIES:New Jersey Corporate Event Band
END:VEVENT
END:VCALENDAR