BEGIN:VCALENDAR
VERSION:2.0
PRODID:-//Exit Row Band - ECPv5.16.4//NONSGML v1.0//EN
CALSCALE:GREGORIAN
METHOD:PUBLISH
X-WR-CALNAME:Exit Row Band
X-ORIGINAL-URL:https://exitrowband.com
X-WR-CALDESC:Events for Exit Row Band
BEGIN:VTIMEZONE
TZID:America/New_York
BEGIN:DAYLIGHT
TZOFFSETFROM:-0500
TZOFFSETTO:-0400
TZNAME:EDT
DTSTART:20180311T070000
END:DAYLIGHT
BEGIN:STANDARD
TZOFFSETFROM:-0400
TZOFFSETTO:-0500
TZNAME:EST
DTSTART:20181104T060000
END:STANDARD
END:VTIMEZONE
BEGIN:VEVENT
DTSTART;TZID=America/New_York:20180710T190000
DTEND;TZID=America/New_York:20180710T203000
DTSTAMP:20260424T153747
CREATED:20180110T195302Z
LAST-MODIFIED:20180110T195302Z
UID:868-1531249200-1531254600@exitrowband.com
SUMMARY:Top NJ Cover Band Exit Row to give FREE live outdoor concert in Summit
DESCRIPTION:On Tuesday July 10\, New Jersey’s favorite private event band Exit Row Band will give a special FREE concert on the Village Green in Summit from 7:00pm-8:30pm. This is a rare chance to attend a public performance of a band who’s members have done over 1\,000 events across the world! It’s going to be a fun evening of your favorite cover music\, including classic rock\, top 40\, oldies\, new country\, and more! \nWe hope to see you there\, come rock with us!! If you haven’t already done so\, be sure to “like” us on Facebook to be kept informed of public shows near you! \nTop NJ Cover Band Exit Row Band Outdoor Concert in Summit
URL:https://exitrowband.com/event/top-nj-cover-band-exit-row-live-music-concert-summit-nj/
LOCATION:Summit Village Green\, 356 Broad Street\, Summit\, NJ\, 07901\, United States
CATEGORIES:New Jersey Corporate Event Band
END:VEVENT
END:VCALENDAR