BEGIN:VCALENDAR
VERSION:2.0
PRODID:-//Exit Row Band - ECPv5.16.4//NONSGML v1.0//EN
CALSCALE:GREGORIAN
METHOD:PUBLISH
X-WR-CALNAME:Exit Row Band
X-ORIGINAL-URL:https://exitrowband.com
X-WR-CALDESC:Events for Exit Row Band
BEGIN:VTIMEZONE
TZID:America/New_York
BEGIN:DAYLIGHT
TZOFFSETFROM:-0500
TZOFFSETTO:-0400
TZNAME:EDT
DTSTART:20170312T070000
END:DAYLIGHT
BEGIN:STANDARD
TZOFFSETFROM:-0400
TZOFFSETTO:-0500
TZNAME:EST
DTSTART:20171105T060000
END:STANDARD
END:VTIMEZONE
BEGIN:VEVENT
DTSTART;TZID=America/New_York:20170710T190000
DTEND;TZID=America/New_York:20170710T200000
DTSTAMP:20260424T204638
CREATED:20170423T164049Z
LAST-MODIFIED:20170423T164049Z
UID:797-1499713200-1499716800@exitrowband.com
SUMMARY:Top NJ Event Band Exit Row to perform special outdoor concert at Randolph Library
DESCRIPTION:As a very busy private event band doing shows across the country\, we do a limited number of shows each year for the general public. Exit Row Band strongly believes in giving back to local communities. On July 10 from 7-8pm\, the band will perform a special outdoor concert at the Randolph Library\, located at 28 Calais Rd\, Randolph\, NJ 07869.  We are rain or shine\, so in the event of inclement weather\, we will be moving indoors. Come by for a fun evening listening to your favorite songs!\n 
URL:https://exitrowband.com/event/top-nj-event-band-exit-row-to-perform-special-outdoor-concert-at-randolph-library/
LOCATION:Randolph Library\, 28 Calais Rd\, Randolph\, NJ\, 07869\, United States
CATEGORIES:Top NJ Band Public Shows
END:VEVENT
END:VCALENDAR