BEGIN:VCALENDAR
VERSION:2.0
PRODID:-//Exit Row Band - ECPv5.16.4//NONSGML v1.0//EN
CALSCALE:GREGORIAN
METHOD:PUBLISH
X-WR-CALNAME:Exit Row Band
X-ORIGINAL-URL:https://exitrowband.com
X-WR-CALDESC:Events for Exit Row Band
BEGIN:VTIMEZONE
TZID:America/New_York
BEGIN:DAYLIGHT
TZOFFSETFROM:-0500
TZOFFSETTO:-0400
TZNAME:EDT
DTSTART:20170312T070000
END:DAYLIGHT
BEGIN:STANDARD
TZOFFSETFROM:-0400
TZOFFSETTO:-0500
TZNAME:EST
DTSTART:20171105T060000
END:STANDARD
END:VTIMEZONE
BEGIN:VEVENT
DTSTART;TZID=America/New_York:20170127T210000
DTEND;TZID=America/New_York:20170127T235500
DTSTAMP:20260424T221842
CREATED:20161224T180746Z
LAST-MODIFIED:20161224T180746Z
UID:730-1485550800-1485561300@exitrowband.com
SUMMARY:Top Rated Private Event Band Exit Row Band plays Grillestone in Scotch Plains
DESCRIPTION:Top NJ Professional Private Event Band Exit Row Band will play at the Grillestone in Scotch Plains Friday January 27 at 9pm. With a busy tour and private event schedule\, the band performs a limited number of shows for the general public\, so be sure to come by for a terrific night of great music! Members of our travel team are currently on tour\, so this will be our first 2017 show for the general public in NJ! We look forward to seeing you all!
URL:https://exitrowband.com/event/top-rated-private-event-band-exit-row-band-plays-grillestone-in-scotch-plains/
LOCATION:Grillestone\, 2377 US-22\, Scotch Plains\, NJ\, 07076\, United States
CATEGORIES:New Jersey Corporate Event Band
END:VEVENT
END:VCALENDAR