BEGIN:VCALENDAR
VERSION:2.0
PRODID:-//Exit Row Band - ECPv5.16.4//NONSGML v1.0//EN
CALSCALE:GREGORIAN
METHOD:PUBLISH
X-WR-CALNAME:Exit Row Band
X-ORIGINAL-URL:https://exitrowband.com
X-WR-CALDESC:Events for Exit Row Band
BEGIN:VTIMEZONE
TZID:America/New_York
BEGIN:DAYLIGHT
TZOFFSETFROM:-0500
TZOFFSETTO:-0400
TZNAME:EDT
DTSTART:20140309T070000
END:DAYLIGHT
BEGIN:STANDARD
TZOFFSETFROM:-0400
TZOFFSETTO:-0500
TZNAME:EST
DTSTART:20141102T060000
END:STANDARD
END:VTIMEZONE
BEGIN:VEVENT
DTSTART;TZID=America/New_York:20140806T190000
DTEND;TZID=America/New_York:20140806T203000
DTSTAMP:20260425T130452
CREATED:20140216T191634Z
LAST-MODIFIED:20140216T191634Z
UID:347-1407351600-1407357000@exitrowband.com
SUMMARY:Woodland Park Outdoor Concert by Exit Row Band
DESCRIPTION:Exit Row Band will play an outdoor concert at in Woodland Park from 7pm-8:30pm on Wednesday August 6\, 2014. We will be playing in a beautiful gazebo in a picturesque park. The address is Dowling Gardens\, McBride Avenue and Dowling Parkway Woodland Park\, NJ 07424. We hope to see you there!
URL:https://exitrowband.com/event/woodland-park-outdoor-concert-by-exit-row-band/
LOCATION:Dowling Gardens\, McBride Avenue and Dowling Parkway\, Woodland Park\, NJ\, 07424\, United States
CATEGORIES:Top NJ Band Public Shows
END:VEVENT
END:VCALENDAR