BEGIN:VCALENDAR
VERSION:2.0
PRODID:-//Exit Row Band - ECPv5.16.4//NONSGML v1.0//EN
CALSCALE:GREGORIAN
METHOD:PUBLISH
X-WR-CALNAME:Exit Row Band
X-ORIGINAL-URL:https://exitrowband.com
X-WR-CALDESC:Events for Exit Row Band
BEGIN:VTIMEZONE
TZID:America/New_York
BEGIN:DAYLIGHT
TZOFFSETFROM:-0500
TZOFFSETTO:-0400
TZNAME:EDT
DTSTART:20160313T070000
END:DAYLIGHT
BEGIN:STANDARD
TZOFFSETFROM:-0400
TZOFFSETTO:-0500
TZNAME:EST
DTSTART:20161106T060000
END:STANDARD
END:VTIMEZONE
BEGIN:VEVENT
DTSTART;TZID=America/New_York:20161022T140000
DTEND;TZID=America/New_York:20161022T160000
DTSTAMP:20260425T001510
CREATED:20160928T203816Z
LAST-MODIFIED:20160928T203827Z
UID:607-1477144800-1477152000@exitrowband.com
SUMMARY:Yelp and Exit Row Band "All the Fall Things" Festival Event
DESCRIPTION:Exit Row Band is pleased to be the Official Band for the huge Yelp NJ Event on 10/22/16: All the Fall Things! \nIts going to be a fantastic day for Yelpers to come and experience fun fall activities (crafts\, hayrides\, pumpkin picking and carving)\, buffalo trace whiskey\, beer sponsors\, food sponsors\, and of course\, entertainment by Exit Row Band! \nThe event will take place at Liberty Hall Museum from 2-4pm located at 1003 Morris Avenue\, Union\, NJ 07083. \nAttendance is strictly limited to the first 300! With our busy private schedule\, we do limited shows for the public\, so catch this one if you can\, before members of the band head out the next week with Holly Marie to open for Sarah McLachlan in Scottsdale.
URL:https://exitrowband.com/event/yelp-and-exit-row-band-all-the-fall-things-festival-event/
LOCATION:Liberty Hall Museum\, 1003 Morris Avenue\, Union\, NJ\, 07083\, United States
CATEGORIES:New Jersey Corporate Event Band,Top NJ Band Public Shows
END:VEVENT
END:VCALENDAR